BEGIN:VCALENDAR
VERSION:2.0
PRODID:-//Esernyős - ECPv5.8.0//NONSGML v1.0//EN
CALSCALE:GREGORIAN
METHOD:PUBLISH
X-WR-CALNAME:Esernyős
X-ORIGINAL-URL:https://esernyos.hu
X-WR-CALDESC:Events for Esernyős
BEGIN:VTIMEZONE
TZID:Europe/Budapest
BEGIN:DAYLIGHT
TZOFFSETFROM:+0100
TZOFFSETTO:+0200
TZNAME:CEST
DTSTART:20260329T010000
END:DAYLIGHT
BEGIN:STANDARD
TZOFFSETFROM:+0200
TZOFFSETTO:+0100
TZNAME:CET
DTSTART:20261025T010000
END:STANDARD
END:VTIMEZONE
BEGIN:VEVENT
DTSTART;TZID=Europe/Budapest:20260513T190000
DTEND;TZID=Europe/Budapest:20260513T203000
DTSTAMP:20260425T135430
CREATED:20260420T103602Z
LAST-MODIFIED:20260420T103602Z
UID:12126-1778698800-1778704200@esernyos.hu
SUMMARY:A PEPITA TÁRSULAT PLAYBACK-SZÍNHÁZI ELŐADÁSA: képzőművészeti felhanggal a közönség történetei alapján
DESCRIPTION:MÁJUS 13. | SZERDA\n19:00-20:30\nHelyszín: Szindbád rendezvényterem \nA PEPITA TÁRSULAT PLAYBACK-SZÍNHÁZI ELŐADÁSA \nképzőművészeti felhanggal a közönség történetei alapján \nPlayback-színházi előadás színpadon és képekben: itt a nézők életéből elmesélt pillanatok\, történetek\, gondolatok és érzések elevenednek meg a színház\, a zene és a képzőművészet eszközein keresztül. Ami elhangzik\, az ott és akkor születik meg – egyszeri\, megismételhetetlen formában. \nAz alkotók a közönség által megosztott történetekből inspirálódva rögtönöznek: mozdulatokkal\, hangokkal\, képekkel és színekkel adnak visszajelzést arról\, amit hallottak. Így válik a személyes élmény közös művészeti tapasztalattá. \nÖSSZMŰVÉSZETI – KÖZÖSSÉGI – PLAYBACK \nEgy tér\, ahol figyelem\, empátia és kreativitás találkozik.\nEgy este\, ahol a néző nemcsak szemlélő\, hanem alkotótárs. \nGyere és meséld el saját történetedet\, mi pedig visszajátszuk. \nJegyárak: Elővételben: 2 300 Ft I Kedvezményes (diák\, pedagógus\, nyugdíjas): 2 500 Ft \nhttps://www.tixa.hu/a-pepita-tarsulat-20260513
URL:https://esernyos.hu/program/a-pepita-tarsulat-playback-szinhazi-eloadasa-kepzomuveszeti-felhanggal-a-kozonseg-tortenetei-alapjan-2/
LOCATION:Esernyős Szindbád Rendezvénytér\, Fő tér 2.\, Bp\, 1033\, Magyarország
CATEGORIES:Színház
ATTACH;FMTTYPE=image/jpeg:https://esernyos.hu/wp-content/uploads/2026/04/Facebook_esemeny_05_13_PEPITA-PLAYBACK.jpg
END:VEVENT
END:VCALENDAR