BEGIN:VCALENDAR
VERSION:2.0
PRODID:-//Esernyős - ECPv5.8.0//NONSGML v1.0//EN
CALSCALE:GREGORIAN
METHOD:PUBLISH
X-WR-CALNAME:Esernyős
X-ORIGINAL-URL:https://esernyos.hu
X-WR-CALDESC:Events for Esernyős
BEGIN:VTIMEZONE
TZID:Europe/Budapest
BEGIN:DAYLIGHT
TZOFFSETFROM:+0100
TZOFFSETTO:+0200
TZNAME:CEST
DTSTART:20260329T010000
END:DAYLIGHT
BEGIN:STANDARD
TZOFFSETFROM:+0200
TZOFFSETTO:+0100
TZNAME:CET
DTSTART:20261025T010000
END:STANDARD
END:VTIMEZONE
BEGIN:VEVENT
DTSTART;TZID=Europe/Budapest:20260515T190000
DTEND;TZID=Europe/Budapest:20260515T213000
DTSTAMP:20260425T151706
CREATED:20260420T110729Z
LAST-MODIFIED:20260420T110729Z
UID:12128-1778871600-1778880600@esernyos.hu
SUMMARY:A TELEP TÁRSASÁG ELŐADÁSA: SAS BURGER
DESCRIPTION:MÁJUS 15. | PÉNTEK\n19:00-21:30\nHelyszín: Szindbád rendezvényterem \nA TELEP TÁRSASÁG ELŐADÁSA: SAS BURGER\nF. József állást kap egy gyorsétteremben. A helyet saját magáról elnevező főnök\, SAS (Sipos András Sándor) már az állásinterjún átkereszteli őt Fecskére. A konyha világa egy sajátos mikrokozmosz\, ahol mások a szabályok. Fecskének alkalmazkodnia kell\, de ennek ára van. És akkor még ott van ugye a klasszikus: a szerelem. Meg ugye egy ponton majd minden a feje tetejére borul. Ja\, és még valami: tudod mi a különbség a kecsap és a mustár között?\nAz előadást két felvonásban játsszuk\, egy rövid szünettel. Játékidő 120 perc. Az előadást 14 éven aluliaknak nem ajánljuk. \nSzereplők: Frigyes Kristóf\, Gyenes András\, Kovács Adrienn\, Sándor Orsolya\, Szepesi Dorottya\, Takáts Áron\, Takáts Máté \nÍrta és rendezte: Gecse Gábor és Szinvai Dániel\nJegyárak: Elővételben: 2 300 Ft I Kedvezményes (diák\, pedagógus\, nyugdíjas): 2 500 Ft\nHelyszínen: 2 800 Ft \nhttps://www.tixa.hu/telep-tarsasag-sas-burger-20260515
URL:https://esernyos.hu/program/a-telep-tarsasag-eloadasa-sas-burger-2/
LOCATION:Esernyős Szindbád Rendezvénytér\, Fő tér 2.\, Bp\, 1033\, Magyarország
CATEGORIES:Színház
END:VEVENT
END:VCALENDAR