BEGIN:VCALENDAR
VERSION:2.0
PRODID:-//Esernyős - ECPv5.8.0//NONSGML v1.0//EN
CALSCALE:GREGORIAN
METHOD:PUBLISH
X-WR-CALNAME:Esernyős
X-ORIGINAL-URL:https://esernyos.hu
X-WR-CALDESC:Events for Esernyős
BEGIN:VTIMEZONE
TZID:Europe/Budapest
BEGIN:DAYLIGHT
TZOFFSETFROM:+0100
TZOFFSETTO:+0200
TZNAME:CEST
DTSTART:20260329T010000
END:DAYLIGHT
BEGIN:STANDARD
TZOFFSETFROM:+0200
TZOFFSETTO:+0100
TZNAME:CET
DTSTART:20261025T010000
END:STANDARD
END:VTIMEZONE
BEGIN:VEVENT
DTSTART;TZID=Europe/Budapest:20260516T190000
DTEND;TZID=Europe/Budapest:20260516T200000
DTSTAMP:20260425T181436
CREATED:20260420T111246Z
LAST-MODIFIED:20260420T111246Z
UID:12130-1778958000-1778961600@esernyos.hu
SUMMARY:CÉANNE DUÓ – Terasz Live
DESCRIPTION:MÁJUS 16. | SZOMBAT\n19:00-20:00\nHelyszín: Kávézó Terasz \nCÉANNE DUÓ – Terasz Live \nSzélinger Anna\, művésznevén CéAnne\, pályafutását reggae berkekben kezdte\, dolgozott a Ladánybene 27-tel\, állandó vendége volt a PASO-nak\, egy ideje a Hősök énekesnője. Anna koncertjeit is ez a sokszínűség jellemzi: az elgondolkodtató dalokat öniróniával és szarkazmussal köti össze a dalokban és azok között is. \nA belépés ingyenes!
URL:https://esernyos.hu/program/ceanne-duo-terasz-live/
LOCATION:Esernyős kávézó\, Fő tér 2.\, Bp\, 1033\, Magyarország
CATEGORIES:Koncert
ATTACH;FMTTYPE=image/jpeg:https://esernyos.hu/wp-content/uploads/2026/04/Facebook_esemeny_05_16_TERASZ-LIVE_CeAnne-duo.jpg
END:VEVENT
END:VCALENDAR