BEGIN:VCALENDAR
VERSION:2.0
PRODID:-//Esernyős - ECPv5.8.0//NONSGML v1.0//EN
CALSCALE:GREGORIAN
METHOD:PUBLISH
X-WR-CALNAME:Esernyős
X-ORIGINAL-URL:https://esernyos.hu
X-WR-CALDESC:Events for Esernyős
BEGIN:VTIMEZONE
TZID:Europe/Budapest
BEGIN:DAYLIGHT
TZOFFSETFROM:+0100
TZOFFSETTO:+0200
TZNAME:CEST
DTSTART:20210328T010000
END:DAYLIGHT
BEGIN:STANDARD
TZOFFSETFROM:+0200
TZOFFSETTO:+0100
TZNAME:CET
DTSTART:20211031T010000
END:STANDARD
END:VTIMEZONE
BEGIN:VEVENT
DTSTART;TZID=Europe/Budapest:20210701T180000
DTEND;TZID=Europe/Budapest:20210701T193000
DTSTAMP:20260425T201245
CREATED:20210617T170833Z
LAST-MODIFIED:20210707T105009Z
UID:7340-1625162400-1625167800@esernyos.hu
SUMMARY:drMáriás\, Hecker\, Weiler GÖRBE TÜKRÖK - Válogatás a Völgyi – Skonda Kortárs Gyűjteményből - kiállítás
DESCRIPTION:A kiállításon szereplő művészek – Hecker Péter\, drMáriás és Weiler Péter – bizonyára gyakran elmélkednek magukban a politika természetéről\, a hatalmi pozíciók társadalomalakító szerepéről\, ideológiák gyakorlati abszurditásáról.\n\nKritikai realista eszközeik az oroszlán bajuszának húzogatására is alkalmas egykét kinyilatkoztatásra\, de az aktuálpolitikában sosem foglalnak állást.\n\nPersze a közéleti események gyakran inspirálóan hatnak rájuk\, de inkább a visszakérdezést\, a problémás részek megvilágítását érzik feladatuknak\, sem mint a véleményük harsány hangoztatását…\nHecker Péter nem is mondhatott volna el csendesebben véleményt egy kiállítás csendes terébe becsörgő és hangos örömmel fogadott mobil telefonhívásról\, mint ahogy azt a „Halló… nem zavarsz! Picasso kiállításon vagyok” című alkotásával tette.\n\nA kiállítás megtekinthető 2021. július 31-ig. A kiállítás teljes anyaga két térben is látogatható. Az Esernyős Galériában hétfőtől – szombatig 08.00- 20.00 óráig\, és a Szindbád rendezvénytérben pedig hétfőtől-péntekig 10.00-17.00 óráig.
URL:https://esernyos.hu/program/drmarias-hecker-weiler-gorbe-tukrok-valogatas-a-volgyi-skonda-kortars-gyujtemenybol/
LOCATION:Esernyős Galéria\, Fő tér 2.\, Budapest\, 1033\, Magyarország
CATEGORIES:Kiállítás
ATTACH;FMTTYPE=image/jpeg:https://esernyos.hu/wp-content/uploads/2021/06/kadar_aczel_szinespapir_o-scaled.jpg
END:VEVENT
END:VCALENDAR