BEGIN:VCALENDAR
VERSION:2.0
PRODID:-//Esernyős - ECPv5.8.0//NONSGML v1.0//EN
CALSCALE:GREGORIAN
METHOD:PUBLISH
X-WR-CALNAME:Esernyős
X-ORIGINAL-URL:https://esernyos.hu
X-WR-CALDESC:Events for Esernyős
BEGIN:VTIMEZONE
TZID:Europe/Budapest
BEGIN:DAYLIGHT
TZOFFSETFROM:+0100
TZOFFSETTO:+0200
TZNAME:CEST
DTSTART:20210328T010000
END:DAYLIGHT
BEGIN:STANDARD
TZOFFSETFROM:+0200
TZOFFSETTO:+0100
TZNAME:CET
DTSTART:20211031T010000
END:STANDARD
END:VTIMEZONE
BEGIN:VEVENT
DTSTART;TZID=Europe/Budapest:20210715T210000
DTEND;TZID=Europe/Budapest:20210715T223000
DTSTAMP:20260426T031435
CREATED:20210629T141113Z
LAST-MODIFIED:20210705T131041Z
UID:7354-1626382800-1626388200@esernyos.hu
SUMMARY:Esernyős Kertmozi – A cukrász
DESCRIPTION:Tomas berlini cukrászdájába egy szép őszi napon besétál az izraeli Oren\, aki munkája miatt gyakran jár a városban. Az elkövetkező hónapokban egyre többször ugrik be süteményért\, és hamarosan szenvedélyes kapcsolatba kezd a férfival. Egy nap azonban nyomtalanul eltűnik. A kétségbeesett Tomas a keresésére indul: útja Jeruzsálembe vezet\, ahol Oren családjának kávézójában kezdi sütni csodálatos tortáit. A különleges német sütemények felvirágoztatják az üzletet\, és az eleinte bizalmatlan család is befogadja a szűkszavú idegent. A háttérben lappangó titkok azonban nem maradhatnak örökre rejtve… \nnémet-izraeli film\, héber\, német és angol nyelven\, magyar felirattal\, 104 perc\, 2017 \n16 éven aluliaknak nem ajánlott! \nBelépődíj: 1000 Ft; diák és nyugdíjas jegyár: 800 Ft \nJegyeket a jegy.hu-n keresztül is lehet vásárolni: Esernyős Kertmozi-A cukrász – Esernyős | Jegy.hu \nRossz idő esetén a programot másik időpontban tartjuk meg. \n 
URL:https://esernyos.hu/program/esernyos-kertmozi-a-cukrasz/
LOCATION:Esernyős udvar\, Fő tér 2.\, Bp.\, 1033\, Magyarország
CATEGORIES:Mozi
ATTACH;FMTTYPE=image/jpeg:https://esernyos.hu/wp-content/uploads/2021/06/foto1.jpg
END:VEVENT
END:VCALENDAR