BEGIN:VCALENDAR
VERSION:2.0
PRODID:-//Esernyős - ECPv5.8.0//NONSGML v1.0//EN
CALSCALE:GREGORIAN
METHOD:PUBLISH
X-WR-CALNAME:Esernyős
X-ORIGINAL-URL:https://esernyos.hu
X-WR-CALDESC:Events for Esernyős
BEGIN:VTIMEZONE
TZID:Europe/Budapest
BEGIN:DAYLIGHT
TZOFFSETFROM:+0100
TZOFFSETTO:+0200
TZNAME:CEST
DTSTART:20260329T010000
END:DAYLIGHT
BEGIN:STANDARD
TZOFFSETFROM:+0200
TZOFFSETTO:+0100
TZNAME:CET
DTSTART:20261025T010000
END:STANDARD
END:VTIMEZONE
BEGIN:VEVENT
DTSTART;TZID=Europe/Budapest:20260430T180000
DTEND;TZID=Europe/Budapest:20260528T200000
DTSTAMP:20260425T151345
CREATED:20260316T111443Z
LAST-MODIFIED:20260416T105315Z
UID:12003-1777572000-1779998400@esernyos.hu
SUMMARY:Kiállításmegnyitó: A hely\, ami segített…
DESCRIPTION:ÁPRILIS 30 – MÁJUS 28.\nMegnyitó: április 30. csütörtök 18:00\nHelyszín: Esernyős Galéria \nA hely\, ami segített… \na kilépésben\, a változásban\, a döntésben\, megnyugodni\, biztonságba kerülni.\nMilyen kép jut eszedbe arról\, amit átéltél\, vagy amit magad mögött hagytál?\nPhotovoice közösségi fotóprojekt a családon belüli erőszakról és a gyógyulásról.\n· A hely\, aminek története van\,\n· egy találkozás helye\,\n· egy tárgy\, egy bútor\,\n· vízpart vagy erdő\,\n· egy fontos pillanat helye\,\n· egy esemény\,\n· egy utca\, egy helyszín\,\n· egy zug vagy szeglet\,\n· égen földön valahol. \nA kiállítás Óbuda-Békásmegyer Önkormányzat és a NANE Egyesület szervezésében kerül megrendezésre.\n#ahelyamisegitett #vankepemhozza \nA részvétel ingyenes.
URL:https://esernyos.hu/program/kiallitasmegnyito-a-hely-ami-segitett/
LOCATION:Esernyős Galéria\, Fő tér 2.\, Budapest\, 1033\, Magyarország
CATEGORIES:Kiállítás
ATTACH;FMTTYPE=image/jpeg:https://esernyos.hu/wp-content/uploads/2026/03/Facebook_esemeny_04_30_NANE_A-hely-ami-segitett.jpg
END:VEVENT
END:VCALENDAR