BEGIN:VCALENDAR
VERSION:2.0
PRODID:-//Esernyős - ECPv5.8.0//NONSGML v1.0//EN
CALSCALE:GREGORIAN
METHOD:PUBLISH
X-WR-CALNAME:Esernyős
X-ORIGINAL-URL:https://esernyos.hu
X-WR-CALDESC:Events for Esernyős
BEGIN:VTIMEZONE
TZID:Europe/Budapest
BEGIN:DAYLIGHT
TZOFFSETFROM:+0100
TZOFFSETTO:+0200
TZNAME:CEST
DTSTART:20250330T010000
END:DAYLIGHT
BEGIN:STANDARD
TZOFFSETFROM:+0200
TZOFFSETTO:+0100
TZNAME:CET
DTSTART:20251026T010000
END:STANDARD
END:VTIMEZONE
BEGIN:VEVENT
DTSTART;TZID=Europe/Budapest:20250227T180000
DTEND;TZID=Europe/Budapest:20250327T200000
DTSTAMP:20260424T234151
CREATED:20241228T191133Z
LAST-MODIFIED:20250212T213654Z
UID:10648-1740679200-1743105600@esernyos.hu
SUMMARY:Kiállításmegnyitó: "Szép vagy Alföld\, legalább nekem szép..." - alföldi festészet a Völgyi-Skonda Gyűjteményben
DESCRIPTION:A címadás is jelzi\, hogy a kiállítás egyáltalán nem törekszik teljes körképet adni az alföldi festészetről. Alföldi iskola illetve alföldi festők néven emlegeti a művészettörténet azokat a festőket akik a 20. század első felében Hódmezővásárhelyen\, Szentesen\, Baján\, Debrecenben\, a szolnoki művésztelepen\, azaz a Nagyalföldön működtek. Művészetükben Munkácsy Mihály mágikus realizmusát és a nagybányai iskola plein-air stílusát követték. Céljuk volt a Nagyalföldet megfesteni olyannak\, amilyennek ők látták. Művészetükkel céljaikat betöltötték\, megelevenítették képeiken a Nagyalföld korabeli tájait\, civilizációs szintjét\, hangulatát\, az ott élő emberek életmódját. Az alföldi festők képei számot adnak egy szűk évszázad művészi törekvéseiről: vágyakról\, álmokról\, elképzelt valóságról\, a hétköznapok poéziséről. A külvilágra mindig figyelve\, de a belsőre koncentrálva a világ ezen szögletében olyan életművek jöttek létre\, melyek a nagyon színes európai palettán\, egy-egy sajátos színfoltot helyeztek el.Ezek az alkotások szerves részét képezik a Völgyi- Skonda Gyűjteménynek. Bemutatásukkal hozzá szeretnének járulni annak az adósságnak a törlesztéséhez\, mely szerint az utóbbi időkben ez a varázslatos világ elkerülte azt a fókuszt\, amelyet méltán megérdemel.\n\nKiállító művészek: Baranyó Sándor\, Bozsó János\, Chiovini Ferenc\, Endre Béla\, Góth Móric\, Gyalai Béla\, Hézső Ferenc\, Iványi-Grünwald Béla\, Járitz Józsa\, Kurucz D. István\, Lóránt János Demeter\, Németh János\, Pólya Tibor\, Szalay Ferenc\, Szurcsik János\, Tornyai János\, Varga Patricia Minerva\n\nKiállításmegnyitó: 2025. február 27. 18:00\n\nA kiállítás megtekinthető: 2025. március 27.\n\nA kiállítást megnyitja: Szurcsik József Munkácsy-díjas képzőművészKözreműködik: Jámbor Erzsébet előadóművész\n\nA részvétel díjmentes!
URL:https://esernyos.hu/program/kiallitasmegnyito-szep-vagy-alfold-legalabb-nekem-szep-alfoldi-festeszet-a-volgyi-skonda-gyujtemenyben/
LOCATION:Esernyős Galéria\, Fő tér 2.\, Budapest\, 1033\, Magyarország
CATEGORIES:Kiállítás
ATTACH;FMTTYPE=image/jpeg:https://esernyos.hu/wp-content/uploads/2024/12/Facebook_esemény_02_27_ALFÖLDI-festészet_KÉPZŐMŰVÉSZETI-TÁRLAT.jpg
END:VEVENT
END:VCALENDAR