BEGIN:VCALENDAR
VERSION:2.0
PRODID:-//Esernyős - ECPv5.8.0//NONSGML v1.0//EN
CALSCALE:GREGORIAN
METHOD:PUBLISH
X-WR-CALNAME:Esernyős
X-ORIGINAL-URL:https://esernyos.hu
X-WR-CALDESC:Events for Esernyős
BEGIN:VTIMEZONE
TZID:Europe/Budapest
BEGIN:DAYLIGHT
TZOFFSETFROM:+0100
TZOFFSETTO:+0200
TZNAME:CEST
DTSTART:20260329T010000
END:DAYLIGHT
BEGIN:STANDARD
TZOFFSETFROM:+0200
TZOFFSETTO:+0100
TZNAME:CET
DTSTART:20261025T010000
END:STANDARD
END:VTIMEZONE
BEGIN:VEVENT
DTSTART;TZID=Europe/Budapest:20260510T100000
DTEND;TZID=Europe/Budapest:20260510T163000
DTSTAMP:20260425T151518
CREATED:20260415T193803Z
LAST-MODIFIED:20260418T212331Z
UID:12095-1778407200-1778430600@esernyos.hu
SUMMARY:Óbuda Napja 2026: Élettel telik meg a Zichy-udvar
DESCRIPTION:A Fő térről nyíló Zichy-udvar Óbuda Napja alkalmából különféle izgalmas programokkal várja az érdeklődőket. A kerületi civil egyesületek interaktív programokon keresztül ismertetik meg munkásságukat\, a legkisebbek egy varázslatos mesefaluban\, Tökmagfalván tudják kipróbálni a kézműves mesterségek eszközeit és a különböző kerti munkákat\, míg az Óbudai Múzeum a sváb strudli nyomába eredve biztosít foglalkozásokat minden korosztálynak. A hétvége mindkét napja során újrahasznosításhoz kötődő kézműves foglalkozások\, kerekasztal-beszélgetések és gyerekszínházi előadások színesítik a gazdag programkínálatot. \n2026.05.09.\n10:00-17:00 Civil udvar: Óbudai Otthon Segítünk Alapítvány\, Jövőbarát Egyesület\, Egyboglya a Családi Közösségekért Alapítvány\, Kamasztér Alapítvány\, Turizmus Szívvel Alapítvány\, Roll Natural Egyesület\, Óbudai Danubia Zenekar\, Baltazár Színház\, Hintalovon Alapítvány \n10:00-12:00 Töltsd velünk! Készítsd el saját strudlidat a SütiPék segítségével!\n10:00-17:00 Kézi gabonaőrlés különféle gabonákból kicsiknek és nagyoknak. Foglalkozás a Mezőgazdasági Múzeum közreműködésével.\n10:00-17:00 Strudli vásár: 5 különböző íz\, sós és édes finomságok helyben sütve\, a SütiPéktől\n10:00-17:00 Tökmagfalva – interaktív mesefalu\n10:00-17:00 Zöld Óbuda kézműves sátor\n11:00-12:00 Gabonakaland\, avagy mit ettél reggelire? – foglalkozás a Mezőgazdasági Múzeum közreműködésével. Javasolt életkor: 10-14 év\n12:30-13:30 Miért jó Óbudán élni? – beszélgetés kerületi művészekkel\, sportolókkal: Karalyos Gábor\, Marosi Ádám\, Gyarmati Fanny\n13:30-14:15 Grimm-Busz Színház: Hetet egy csapásra\n14:00-16:00 Töltsd velünk! Készítsd el saját strudlidat a SütiPék segítségével!\n14:00-14:45 A hajómalmoktól a gőzmalmokig – előadást tartja: Horváth Péter\, történész-muzeológus\n16:00-16:45 Ziránó Színház: Pulcinella kertészkedik c. bábjáték\n16:00-17:00 „Zöld Óbuda” fenntarthatósági beszélgetés: Dr. Horváth Dániel\, Dr. Dexler Dóra \n2026.05.10.\n10:00-17:00 Civil udvar: Göncz Árpád Alapítvány\, FLÓRA Értelmi Fogyatékosokért és Autistákért Alapítvány\, Sclerosis Multiplex Budapesti Egyesület\, Jóbuda Közösségi Alapítvány\, Soroptimist Club Budapest\, Szent László Haditorna Egyesület\, Arts Harmony Társaság\, Nők a Nőkért Együtt az Erőszak Ellen Egyesület\n10:00-11:00 Tárlatvezetés Templomok a talpunk alatt című középkori pincetárlatunkban tartja: Benyóné Dr. Mojzsis Dóra\, ny. régész-muzeológus\n10:00-17:00 Sváb kenyér vásár a SütiPéktől\n10:00-17:00 Egy gyár anatómiája. Interaktív játékok nem csak gyerekeknek\n10:00-17:00 Tökmagfalva – interaktív mesefalu\n10:00-17:00 Zöld Óbuda kézműves sátor\n11:00-11:50 Kocsonyakirályfi – jóízű bábos mese 7 fejezetben. Javasolt életkor: 4-10 év\n12:30-13:30 „Óbudai legendák” – helytörténeti beszélgetés: Mojzsis Dóra\, Csörsz Rumen István\, Horváth Péter\n15:00-15:45 Gulyás László Vándormuzsikus: Egérparádé\n15:00 – 16:00 Tárlatvezetés Templomok a talpunk alatt című középkori pincetárlatunkban tartja: Benyóné Dr. Mojzsis Dóra\, ny. régész-muzeológus\n15:00-17:00 Só-liszt gyurma készítés Kleman Ágnes múzeumpedagógussal\n15:30-16:30 “Óbudai nők” portrébeszélgetés: Turi Tímea
URL:https://esernyos.hu/program/obuda-napja-2026-elettel-telik-meg-a-zichy-udvar-2/
CATEGORIES:játék
ATTACH;FMTTYPE=image/png:https://esernyos.hu/wp-content/uploads/2026/04/OBUDANAPJA_2026_ZICHY-UDVARhoz_cover.png
END:VEVENT
END:VCALENDAR