BEGIN:VCALENDAR
VERSION:2.0
PRODID:-//Esernyős - ECPv5.8.0//NONSGML v1.0//EN
CALSCALE:GREGORIAN
METHOD:PUBLISH
X-WR-CALNAME:Esernyős
X-ORIGINAL-URL:https://esernyos.hu
X-WR-CALDESC:Events for Esernyős
BEGIN:VTIMEZONE
TZID:Europe/Budapest
BEGIN:DAYLIGHT
TZOFFSETFROM:+0100
TZOFFSETTO:+0200
TZNAME:CEST
DTSTART:20260329T010000
END:DAYLIGHT
BEGIN:STANDARD
TZOFFSETFROM:+0200
TZOFFSETTO:+0100
TZNAME:CET
DTSTART:20261025T010000
END:STANDARD
END:VTIMEZONE
BEGIN:VEVENT
DTSTART;TZID=Europe/Budapest:20260509T100000
DTEND;TZID=Europe/Budapest:20260509T170000
DTSTAMP:20260425T151508
CREATED:20260415T193052Z
LAST-MODIFIED:20260415T193052Z
UID:12086-1778320800-1778346000@esernyos.hu
SUMMARY:Óbuda Napja 2026: Élettel telik meg a Zichy-udvar
DESCRIPTION:A Fő térről nyíló Zichy-udvar Óbuda Napja alkalmából különféle izgalmas programokkal várja az érdeklődőket. A kerületi civil egyesületek interaktív programokon keresztül ismertetik meg munkásságukat\, a legkisebbek egy varázslatos mesefaluban\, Tökmagfalván tudják kipróbálni a kézműves mesterségek eszközeit és a különböző kerti munkákat\, míg az Óbudai Múzeum a sváb strudli nyomába eredve biztosít foglalkozásokat minden korosztálynak. A hétvége mindkét napja során újrahasznosításhoz kötődő kézműves foglalkozások\, kerekasztal-beszélgetések és gyerekszínházi előadások színesítik a gazdag programkínálatot. \n10:00-17:00:\nCivil udvar: Óbudai Otthon Segítünk Alapítvány\, Jövőbarát Egyesület\, Egyboglya a Családi Közösségekért Alapítvány\, Kamasztér Alapítvány\, Turizmus Szívvel Alapítvány\, Roll Natural Egyesület\, Óbudai Danubia Zenekar\, Baltazár Színház\, Hintalovon Alapítvány \n10:00-17:00: Lisztőrlés különféle gabonákból kicsiknek és nagyoknak \n10:00-17:00 Strudli vásár: 5 különböző íz\, sós és édes finomságok helyben sütve\, a SütiPéktől \n10:00-17:00: Tökmagfalva – interaktív mesefalu \n10:00-17:00: Zöld Óbuda kézműves sátor \n11:00-12:00: Gabonakaland\, avagy mit ettél reggelire? – foglalkozás a Mezőgazdasági Múzeum közreműködésével. Javasolt életkor: 10-14 év \n12:30-13:30: Miért jó Óbudán élni? – beszélgetés kerületi művészekkel\, sportolókkal: Karalyos Gábor\, Marosi Ádám\, Gyarmati Fanny \n13:30-14:15: Grimm-Busz Színház: Hetet egy csapásra \n14:00-14:45: A hajómalmoktól a gőzmalmokig – előadást tartja: Horváth Péter\, történész-muzeológus \n16:00-16:45: Ziránó Színház: Pulcinella kertészkedik c. bábjáték \n16:00-17:00: „Zöld Óbuda” fenntarthatósági beszélgetés: Dr. Horváth Dániel\, Dr. Dexler Dóra
URL:https://esernyos.hu/program/obuda-napja-2026-elettel-telik-meg-a-zichy-udvar/
CATEGORIES:Koncert
ATTACH;FMTTYPE=image/png:https://esernyos.hu/wp-content/uploads/2026/04/OBUDANAPJA_2026_ZICHY-UDVARhoz_cover.png
END:VEVENT
END:VCALENDAR