BEGIN:VCALENDAR
VERSION:2.0
PRODID:-//Esernyős - ECPv5.8.0//NONSGML v1.0//EN
CALSCALE:GREGORIAN
METHOD:PUBLISH
X-WR-CALNAME:Esernyős
X-ORIGINAL-URL:https://esernyos.hu
X-WR-CALDESC:Events for Esernyős
BEGIN:VTIMEZONE
TZID:Europe/Budapest
BEGIN:DAYLIGHT
TZOFFSETFROM:+0100
TZOFFSETTO:+0200
TZNAME:CEST
DTSTART:20260329T010000
END:DAYLIGHT
BEGIN:STANDARD
TZOFFSETFROM:+0200
TZOFFSETTO:+0100
TZNAME:CET
DTSTART:20261025T010000
END:STANDARD
END:VTIMEZONE
BEGIN:VEVENT
DTSTART;TZID=Europe/Budapest:20260510T080000
DTEND;TZID=Europe/Budapest:20260510T170000
DTSTAMP:20260425T151338
CREATED:20260415T193609Z
LAST-MODIFIED:20260415T193609Z
UID:12092-1778400000-1778432400@esernyos.hu
SUMMARY:Óbuda Napja a Flórián téren
DESCRIPTION:Az idei évben új programhelyszínnel gazdagodik Óbuda Napja\, hiszen a kerület védőszentjének nevét viselő Flórián tér is egész napos elfoglaltsággal várja szabadidősportok rajongóit. A nap során szabadtéri jógával\, chi kunggal és kung fuval\, sportmérésekkel és a legszórakoztatóbb közösségi játékokkal várjuk az érdeklődőket! \n2026.05.10.\n10:00-11:00 Jóga – oktató Téklesz Diána\n10:00-18:00 Mozdulnék! Sportlabor – ingyenes egészségügyi állapotfelmérések: arteriográf\, BlazePod\, Y-Balance\, látásfunkció\, szorítóerő\n10:00-20:00 Bemutatkoznak a kerületi sportegyesületek: OVSE – Jövő Záloga Közhasznú Egyesület\, Gankaku Sportegyesület\, Magyar Aikido-Kultúra Szakszövetség\, Panoráma SE\, Óbudai Judo Club\, Óbudai Ganz Vízisport Egyesület\, Gerecse Sziklamászó SE\, Vasas Röplabda Kft.\, Aquincum Sportegyesület\n10:00-20:00 TEAM Rekreáció bemutatja: rekesztorony építés\, sumo\, pingpong\, teqball\, XXL csocsó\, kacanga\, hordólovaglás\, Angry birds csúzli\, bébijátszó\n10:00-20:00 Budapesti Szabadidősport Szövetség bemutatja: BlazePod reflexjáték\, szivacs célbalövés\, tekergő teke\, gombhoki\, egeres ügyességi játék\, kacsafutam\, tekergő golyó\, kapura rúgás\, modellauto-pálya\, autóverseny–bringa\, terepasztal–bringa\n10:00-20:00 LádaVasút\n10:00-20:00 Arcfestés\, henna és csillámtetkó\n10:00-20:00 Csocsó és óriás sakk\n11:00-12:00 Chi kung – oktató: Liszka László\n12:00-20:00 Zsonglőr Tanoda\n14:00-15:00 Kung fu – oktató: Liszka László\n14:00-18:00 Óriás Szappanbuborlék Kavalkád
URL:https://esernyos.hu/program/obuda-napja-a-florian-teren/
CATEGORIES:játék
ATTACH;FMTTYPE=image/png:https://esernyos.hu/wp-content/uploads/2026/04/OBUDANAPJA_2026_FLORIAN-TERhez_cover.png
END:VEVENT
END:VCALENDAR