BEGIN:VCALENDAR
VERSION:2.0
PRODID:-//Esernyős - ECPv5.8.0//NONSGML v1.0//EN
CALSCALE:GREGORIAN
METHOD:PUBLISH
X-WR-CALNAME:Esernyős
X-ORIGINAL-URL:https://esernyos.hu
X-WR-CALDESC:Events for Esernyős
BEGIN:VTIMEZONE
TZID:Europe/Budapest
BEGIN:DAYLIGHT
TZOFFSETFROM:+0100
TZOFFSETTO:+0200
TZNAME:CEST
DTSTART:20250330T010000
END:DAYLIGHT
BEGIN:STANDARD
TZOFFSETFROM:+0200
TZOFFSETTO:+0100
TZNAME:CET
DTSTART:20251026T010000
END:STANDARD
END:VTIMEZONE
BEGIN:VEVENT
DTSTART;TZID=Europe/Budapest:20250228T190000
DTEND;TZID=Europe/Budapest:20250228T213000
DTSTAMP:20260424T222914
CREATED:20250217T133302Z
LAST-MODIFIED:20250218T131248Z
UID:10730-1740769200-1740778200@esernyos.hu
SUMMARY:Pub's Culture - kvízjáték est
DESCRIPTION:Kvíz estek az Esernyős kávézójában minden pénteken 19:00-tól – 2025-től a Pub’s Culture csapatával\, tartsatok velünk!\nELSŐ ALKALOM: február 21. 19:00-21:30\n—\nASZTALFOGLALÁS:https://www.pubsculture.hu/Asztalfoglalas/\n\n\nJÁTÉKLEÍRÁS:A Pub’s Culture kvízjátékain maximum 6 fős csapatok vehetnek részt. Hatnál többen játszani nem hatékony\, ebben az esetben inkább indítsatok két kisebb csapatot. Ha a játék alatt bármikor több mint hatan ültök az asztalnál\, 5 pont / plusz fő levonással játszhattok csak\, de ezt is csak ott tehetitek meg\, ahol a helyi elrendezés ezt lehetővé teszi. A létszámba nem számítanak bele a 12 évnél fiatalabb gyermekek.\nA játék során lehetőségetek van cserélni. Ez esetben is csak hatan ülhettek az asztalnál\, de lehet egy hetedik ember\, akit becserélhettek\, és valaki helyette kiül – a csapat teljes\, kvízen részt vevő kerete a cserejátékossal sem lehet több\, mint hét fő\, de így ebben az esetben nem jár pontlevonás. A csere a blokkok közötti szünetekben történhet\, és előre jelezni kell a kvízmesternek\, hogy az egyik ember helyett egy másik játszik tovább.\n\nA játék 50 alapkérdésből\, négy bónuszkérdésből és egy ráadás feladatból áll\, amik az élet bármely területéről származhatnak. És származnak is! Legyen az akár valami napi aktualitás\, klasszikus műveltség vagy gyorsan megoldható\, de ravaszságot\, fortélyt igénylő logikai feladat.\nA játék kb. 2\,5 óra hosszú.\n\nAz 50 kérdés öt blokkra oszlik\, mindegyikben 10+1 kérdés van\, a blokkok között pedig szünetet tartunk\, amikor a kvízmester ki tudja javítani a válaszokat\, ti pedig megihattok egy sört vagy felfrissülhettek igény szerint.\n\nBŐVEBB INFÓ ITT: https://www.pubsculture.hu/Jatekleiras/
URL:https://esernyos.hu/program/pubs-culture-kvizjatek-est/
LOCATION:Esernyős kávézó\, Fő tér 2.\, Bp\, 1033\, Magyarország
CATEGORIES:játék
ATTACH;FMTTYPE=image/jpeg:https://esernyos.hu/wp-content/uploads/2025/02/477898577_1081720620635811_3532249391768366236_n.jpg
END:VEVENT
END:VCALENDAR