BEGIN:VCALENDAR
VERSION:2.0
PRODID:-//Esernyős - ECPv5.8.0//NONSGML v1.0//EN
CALSCALE:GREGORIAN
METHOD:PUBLISH
X-WR-CALNAME:Esernyős
X-ORIGINAL-URL:https://esernyos.hu
X-WR-CALDESC:Events for Esernyős
BEGIN:VTIMEZONE
TZID:Europe/Budapest
BEGIN:DAYLIGHT
TZOFFSETFROM:+0100
TZOFFSETTO:+0200
TZNAME:CEST
DTSTART:20260329T010000
END:DAYLIGHT
BEGIN:STANDARD
TZOFFSETFROM:+0200
TZOFFSETTO:+0100
TZNAME:CET
DTSTART:20261025T010000
END:STANDARD
END:VTIMEZONE
BEGIN:VEVENT
DTSTART;TZID=Europe/Budapest:20260506T170000
DTEND;TZID=Europe/Budapest:20260506T210000
DTSTAMP:20260425T151253
CREATED:20260417T103714Z
LAST-MODIFIED:20260417T112411Z
UID:12102-1778086800-1778101200@esernyos.hu
SUMMARY:Slammentor Klub
DESCRIPTION:MÁJUS 06. | SZERDA\n17:00-21:00\nHelyszín: Szindbád rendezvényterem \nSLAMMENTOR KLUB \nSlam poetry mentorprogram az Esernyősben\n2026 márciusától új közösségi esemény-sorozat indul az Esernyős és a Slam Poetry Magyarország Egyesület közös szervezésében. A havonta megrendezett mentorprogram kezdő és haladó slammerek számára kínál nyitott alkotói teret. A program vezetője Pion István költő\, slammer\, aki minden alkalommal egy meghívott vendégelőadóval dolgozik együtt: a társmentor saját workshopot tart\, és aktívan részt vesz a szöveg- és előadásműhely munkájában.\nA harmadik alkalomra Basch Péter\, kétszeres országos slam poetry bajnok\, az I. Team Slam országos bajnokság 2. helyezettje\, stratégiai marketing szakember érkezik vendégelőadóként. Az estek állandó zenei felelőse DJ I-Lab a.k.a. Leengum.\nAz alkalmak előadással\, workshopokkal és közös műhelymunkával zajlanak\, majd kötetlen beszélgetéssel zárulnak. Alkalmanként 4-6 slammer szövege kerül feldolgozásra\, hogy a program ideje alatt minden résztvevő sorra kerüljön. \nTovábbi részletek hamarosan a Facebook-eseményben. \nJegyárak: Elővételben: 2 000 Ft I Helyszínen: 2 500 Ft \nhttps://www.tixa.hu/slammentor-klub-20260506 \n 
URL:https://esernyos.hu/program/slammentor-klub/
LOCATION:Esernyős Szindbád Rendezvénytér\, Fő tér 2.\, Bp\, 1033\, Magyarország
CATEGORIES:Beszélgetés
ATTACH;FMTTYPE=image/png:https://esernyos.hu/wp-content/uploads/2026/04/MAJUS-esernyos-facebookposzt-slammentor.png
END:VEVENT
END:VCALENDAR