BEGIN:VCALENDAR
VERSION:2.0
PRODID:-//Esernyős - ECPv5.8.0//NONSGML v1.0//EN
CALSCALE:GREGORIAN
METHOD:PUBLISH
X-WR-CALNAME:Esernyős
X-ORIGINAL-URL:https://esernyos.hu
X-WR-CALDESC:Events for Esernyős
BEGIN:VTIMEZONE
TZID:Europe/Budapest
BEGIN:DAYLIGHT
TZOFFSETFROM:+0100
TZOFFSETTO:+0200
TZNAME:CEST
DTSTART:20260329T010000
END:DAYLIGHT
BEGIN:STANDARD
TZOFFSETFROM:+0200
TZOFFSETTO:+0100
TZNAME:CET
DTSTART:20261025T010000
END:STANDARD
END:VTIMEZONE
BEGIN:VEVENT
DTSTART;TZID=Europe/Budapest:20260507T180000
DTEND;TZID=Europe/Budapest:20260603T200000
DTSTAMP:20260425T151625
CREATED:20260420T103312Z
LAST-MODIFIED:20260420T211931Z
UID:12124-1778176800-1780516800@esernyos.hu
SUMMARY:Szepesvári Petra fotói: Ahogy vagy!- a létezés nyomai
DESCRIPTION:MÁJUS 07. | CSÜTÖRTÖK 18:00\nHelyszín: Kávézó \nSzepesvári Petra fotói: Ahogy vagy!- a létezés nyomai \nAz “Ahogy vagy! – a létezés nyomai” projekt az 50 feletti természetes szépségű nőket helyezi fókuszba. Azon nőket \,akikben megvan a kellő kíváncsiság önmaguk felé és felmerik vállalni a külső változásaikat. Nekik is meg voltak és meg vannak az önmagukkal való belső csatáik és nekik sem könnyű látni a szembe tűnő külső változásokat. De mégis van bennük egy belső harmónia\, amely az arcukon is kirajzolódik. A projekt nem csak a fotókról szól\, hanem a női összekapcsolódásról\, ahol egymást erősítve új perspektíván keresztül megmutathatja magát a láthatatlanként definiált 40- 50 feletti női korosztály. \nAz “Ahogy vagy” egy mozgalom” \,ami szeretne minden nőnek egy inspiráló felületet adni\, ahhoz\, hogy az idő múlásában ne félelmet \, hanem lehetőséget lásson. Hogy az érett kor állapotát ne veszteségként\, hanem önazonos kibontakozásként élje meg. \nA megnyitón való részvétel\, és a kiállítás megtekintése ingyenes. \nA kiállítás megtekinthető: június 3.
URL:https://esernyos.hu/program/szepesvari-petra-fotoi-ahogy-vagy-a-letezes-nyomai/
LOCATION:Esernyős kávézó\, Fő tér 2.\, Bp\, 1033\, Magyarország
CATEGORIES:Kiállítás
ATTACH;FMTTYPE=image/jpeg:https://esernyos.hu/wp-content/uploads/2026/04/Facebook_esemeny_05_07_SZEPESVARI-PETRA-FOTOI.jpg
END:VEVENT
END:VCALENDAR