BEGIN:VCALENDAR
VERSION:2.0
PRODID:-//Esernyős - ECPv5.8.0//NONSGML v1.0//EN
CALSCALE:GREGORIAN
METHOD:PUBLISH
X-WR-CALNAME:Esernyős
X-ORIGINAL-URL:https://esernyos.hu
X-WR-CALDESC:Events for Esernyős
BEGIN:VTIMEZONE
TZID:Europe/Budapest
BEGIN:DAYLIGHT
TZOFFSETFROM:+0100
TZOFFSETTO:+0200
TZNAME:CEST
DTSTART:20210328T010000
END:DAYLIGHT
BEGIN:STANDARD
TZOFFSETFROM:+0200
TZOFFSETTO:+0100
TZNAME:CET
DTSTART:20211031T010000
END:STANDARD
END:VTIMEZONE
BEGIN:VEVENT
DTSTART;TZID=Europe/Budapest:20210710T190000
DTEND;TZID=Europe/Budapest:20210710T203000
DTSTAMP:20260426T004002
CREATED:20210630T145714Z
LAST-MODIFIED:20210707T153436Z
UID:7368-1625943600-1625949000@esernyos.hu
SUMMARY:Tasnádi Bence és Várvölgyi Szabolcs-John Lennon est
DESCRIPTION:“Ha hős akarsz lenni\, csak kövess engem!”elnevezést kapta ez az est\, amely az Óbudai Nyár programsorozat egyik üde színfoltja az Esernyős udvarában.\n“Ha 3021-ban megkérdeznék az “utca emberét”\, tud-e mondani egy zenekart a XX. századból\, valószínűleg azt vágná rá\, hogy The Beatles.\nJohn Lennon megalapította a világ első és alighanem legismertebb rockzenekarát\, 10 év alatt felforgatta a könnyűzenét\, majd megszállta a szerelem\, és makacsul mindennek hátat fordítva\, Yoko Ono oldalán alkotott még 10 éven át\, tébolyító meggyilkolásáig.\nAz utóbbi időszak is figyelemreméltó\, de a The Beatles életmű kétség kívül tökéletes!\nSzületésének 81.-\, halálának 41.-\, és a The Beatles feloszlásának 51. évfordulója alkalmából vegyesen válogattunk John Lennon dalaiból.”\n\nAz előadás megtekintése ingyenes!\n\nHelyfoglalás érkezési sorrendben.\n\nNézőket fogadni csak az udvar befogadóképességéig tudunk.\n\nSzeretettel várunk mindenkit!\n\nA program szabadon\, védettségi igazolvány nélkül is látogatható!\n\nFacebook esemény: https://fb.me/e/1rhpcQizA
URL:https://esernyos.hu/program/tasnadi-bence-john-lennon-est/
LOCATION:Esernyős udvar\, Fő tér 2.\, Bp.\, 1033\, Magyarország
CATEGORIES:Koncert
ATTACH;FMTTYPE=image/jpeg:https://esernyos.hu/wp-content/uploads/2021/06/tasnadi-scaled.jpg
END:VEVENT
END:VCALENDAR