BEGIN:VCALENDAR
VERSION:2.0
PRODID:-//Esernyős - ECPv5.8.0//NONSGML v1.0//EN
CALSCALE:GREGORIAN
METHOD:PUBLISH
X-WR-CALNAME:Esernyős
X-ORIGINAL-URL:https://esernyos.hu
X-WR-CALDESC:Events for Esernyős
BEGIN:VTIMEZONE
TZID:Europe/Budapest
BEGIN:DAYLIGHT
TZOFFSETFROM:+0100
TZOFFSETTO:+0200
TZNAME:CEST
DTSTART:20210328T010000
END:DAYLIGHT
BEGIN:STANDARD
TZOFFSETFROM:+0200
TZOFFSETTO:+0100
TZNAME:CET
DTSTART:20211031T010000
END:STANDARD
END:VTIMEZONE
BEGIN:VEVENT
DTSTART;TZID=Europe/Budapest:20210630T180000
DTEND;TZID=Europe/Budapest:20210630T190000
DTSTAMP:20260425T214424
CREATED:20210604T100924Z
LAST-MODIFIED:20210604T103618Z
UID:7291-1625076000-1625079600@esernyos.hu
SUMMARY:Terasz Live - Takáts Eszter
DESCRIPTION:Az immár 16 szerzői kiadású lemezzel rendelkező dalszerző Takáts Eszter a hazai könnyűzenei élet mindig megújulásra képes szereplője\, azon kevés női előadó közé tartozik\, aki nem csak szólistaként\, hanem dalszerzőként is képes maradandót alkotni.\n\nEszter olyan egyszemélyes intézmény\, aki nem ver gyökeret egy stílusban\, hangzásvilágban\, hanem folyamatosan keres\, új társakkal\, új hangszerekkel tágítva saját határait – a közönség legnagyobb örömére.\n\nEzúttal szólóban egy szál gitárral varázsolja el a Fő teret.\n“Átgondolt érzelmek érző gondolkodóknak…”\n\nA belépés ingyenes!\n\nRossz idő esetén a program másik időpontban lesz megtartva!
URL:https://esernyos.hu/program/terasz-live-takats-eszter/
LOCATION:Esernyős terasz\, Fő tér 2.\, Budapest\, 1033\, Magyarország
CATEGORIES:Koncert
ATTACH;FMTTYPE=image/jpeg:https://esernyos.hu/wp-content/uploads/2021/06/Takats-Eszter-scaled.jpg
END:VEVENT
END:VCALENDAR